BEGIN:VCALENDAR
VERSION:2.0
PRODID:-//North Central News - ECPv6.15.18//NONSGML v1.0//EN
CALSCALE:GREGORIAN
METHOD:PUBLISH
X-WR-CALNAME:North Central News
X-ORIGINAL-URL:https://northcentralnews.net
X-WR-CALDESC:Events for North Central News
REFRESH-INTERVAL;VALUE=DURATION:PT1H
X-Robots-Tag:noindex
X-PUBLISHED-TTL:PT1H
BEGIN:VTIMEZONE
TZID:America/Phoenix
BEGIN:STANDARD
TZOFFSETFROM:-0700
TZOFFSETTO:-0700
TZNAME:MST
DTSTART:20220101T000000
END:STANDARD
END:VTIMEZONE
BEGIN:VEVENT
DTSTART;VALUE=DATE:20240406
DTEND;VALUE=DATE:20240408
DTSTAMP:20260425T080904
CREATED:20240325T211014Z
LAST-MODIFIED:20240325T211014Z
UID:36885-1712361600-1712534399@northcentralnews.net
SUMMARY:Annual Bonsai Show
DESCRIPTION:
URL:https://northcentralnews.net/event/annual-bonsai-show/
LOCATION:Valley Garden Center\, 1809 N. 15th Ave.\, Phoenix\, AZ\, 85007\, United States
CATEGORIES:annual event,marketplace
ATTACH;FMTTYPE=image/jpeg:https://northcentralnews.net/wp-content/uploads/2024/03/Phoenix-Bonsai-Society_2024-Show.jpg
END:VEVENT
BEGIN:VEVENT
DTSTART;VALUE=DATE:20240316
DTEND;VALUE=DATE:20240317
DTSTAMP:20260425T080904
CREATED:20240229T002929Z
LAST-MODIFIED:20240229T002929Z
UID:36609-1710547200-1710633599@northcentralnews.net
SUMMARY:41st Annual St. Patrick’s Day Parade and Faire
DESCRIPTION:
URL:https://northcentralnews.net/event/41st-annual-st-patricks-day-parade-and-faire/
LOCATION:AZ
CATEGORIES:annual event,cultural event,family-friendly,outdoor event
ATTACH;FMTTYPE=image/jpeg:https://northcentralnews.net/wp-content/uploads/2024/02/St-Patricks-Day-Parade-car.jpg
END:VEVENT
BEGIN:VEVENT
DTSTART;VALUE=DATE:20240224
DTEND;VALUE=DATE:20240226
DTSTAMP:20260425T080904
CREATED:20240131T194450Z
LAST-MODIFIED:20240131T194450Z
UID:36350-1708732800-1708905599@northcentralnews.net
SUMMARY:Arizona Matsuri: Festival of Japan
DESCRIPTION:Check with organizer for event times
URL:https://northcentralnews.net/event/arizona-matsuri-festival-of-japan/
LOCATION:Steele Indian School Park\, 300 E. Indian School Rd.\, Phoenix\, AZ\, 85012\, United States
CATEGORIES:annual event,cultural event,family-friendly,free,outdoor festival
ATTACH;FMTTYPE=image/jpeg:https://northcentralnews.net/wp-content/uploads/2024/01/AZ-Matsuri.jpg
END:VEVENT
BEGIN:VEVENT
DTSTART;VALUE=DATE:20240210
DTEND;VALUE=DATE:20240212
DTSTAMP:20260425T080904
CREATED:20240131T195250Z
LAST-MODIFIED:20240131T195250Z
UID:36353-1707523200-1707695999@northcentralnews.net
SUMMARY:67th Annual VNSA Used Book Sale
DESCRIPTION:Check with organizer for event times and parking details
URL:https://northcentralnews.net/event/67th-annual-vnsa-used-book-sale/
LOCATION:Arizona State Fairgrounds\, 1826 W. McDowell Rd.\, Phoenix\, AZ\, 85007\, United States
CATEGORIES:annual event,marketplace
ATTACH;FMTTYPE=image/jpeg:https://northcentralnews.net/wp-content/uploads/2024/01/VSNA_crop.jpg
END:VEVENT
BEGIN:VEVENT
DTSTART;VALUE=DATE:20240105
DTEND;VALUE=DATE:20240122
DTSTAMP:20260425T080904
CREATED:20231226T214839Z
LAST-MODIFIED:20231226T214839Z
UID:35939-1704412800-1705881599@northcentralnews.net
SUMMARY:26th Annual Festival of New American Theatre
DESCRIPTION:Various dates and times
URL:https://northcentralnews.net/event/26th-annual-festival-of-new-american-theatre/
LOCATION:The Phoenix Theatre Company\, 1825 N. Central Ave.\, Phoenix\, AZ\, 85004\, United States
CATEGORIES:annual event,theater
ATTACH;FMTTYPE=image/jpeg:https://northcentralnews.net/wp-content/uploads/2023/12/Phoenix-Theatre_Festival-of-New-American-Theatre.jpg
END:VEVENT
BEGIN:VEVENT
DTSTART;TZID=America/Phoenix:20231214T170000
DTEND;TZID=America/Phoenix:20231215T220000
DTSTAMP:20260425T080904
CREATED:20231121T212529Z
LAST-MODIFIED:20231121T212529Z
UID:35668-1702573200-1702677600@northcentralnews.net
SUMMARY:Phoestivus Holiday Craft Market
DESCRIPTION:Held 5-10 p.m. daily\, followed by The Farmers Market & The Phoestivus Hangover\, Saturday\, Dec. 16\, from 8 a.m. to 1 p.m.
URL:https://northcentralnews.net/event/phoestivus-holiday-craft-market/
LOCATION:Downtown Phoenix Farmers Market\, 720 N. 5th Street\, Phoenix\, AZ\, 85004\, United States
CATEGORIES:annual event,family-friendly,marketplace,outdoor event
ATTACH;FMTTYPE=image/jpeg:https://northcentralnews.net/wp-content/uploads/2023/11/Phoestivus.jpg
END:VEVENT
BEGIN:VEVENT
DTSTART;TZID=America/Phoenix:20231209T140000
DTEND;TZID=America/Phoenix:20231209T200000
DTSTAMP:20260425T080904
CREATED:20231121T211001Z
LAST-MODIFIED:20231121T211001Z
UID:35660-1702130400-1702152000@northcentralnews.net
SUMMARY:Merriment in Melrose/Community tree lighting
DESCRIPTION:Join the Melrose District community for Merriment in Melrose from 2-6 p.m. at Glenrosa Avenue and 6th Drive and hosted by the Melrose Merchants Association (https://melrosemerchantsassociation.com)\, followed by a community tree lighting event from 6-8 p.m. at Lyceum Park\, on the northwest corner of 7th and Montecito avenues\, hosted by the Melrose Community Alliance (http://melrosecommunityalliance.com ).
URL:https://northcentralnews.net/event/merriment-in-melrose-community-tree-lighting/
LOCATION:AZ
CATEGORIES:annual event,family-friendly,outdoor event
ATTACH;FMTTYPE=image/jpeg:https://northcentralnews.net/wp-content/uploads/2023/11/MCA-Tree-2022.jpg
END:VEVENT
BEGIN:VEVENT
DTSTART;TZID=America/Phoenix:20231202T190000
DTEND;TZID=America/Phoenix:20231202T213000
DTSTAMP:20260425T080904
CREATED:20231101T201507Z
LAST-MODIFIED:20231101T201507Z
UID:35383-1701543600-1701552600@northcentralnews.net
SUMMARY:Festival of the Trees
DESCRIPTION:
URL:https://northcentralnews.net/event/festival-of-the-trees/
LOCATION:Southwest Center for HIV/AIDS\, 1101 N. Central Ave.\, Phoenix\, AZ\, 85004\, United States
CATEGORIES:annual event,fundraiser,special event
ATTACH;FMTTYPE=image/jpeg:https://northcentralnews.net/wp-content/uploads/2023/11/GPGLCC-Festival-Trees-039.jpg
END:VEVENT
BEGIN:VEVENT
DTSTART;VALUE=DATE:20231124
DTEND;VALUE=DATE:20231231
DTSTAMP:20260425T080904
CREATED:20231121T200432Z
LAST-MODIFIED:20231121T200432Z
UID:35621-1700784000-1703980799@northcentralnews.net
SUMMARY:Las Noches de las Luminarias
DESCRIPTION:Select dates and times
URL:https://northcentralnews.net/event/las-noches-de-las-luminarias/
LOCATION:Desert Botanical Garden\, 1201 N. Galvin Pkwy.\, Phoenix\, AZ\, 85008\, United States
CATEGORIES:annual event,family-friendly,outdoor event
ATTACH;FMTTYPE=image/jpeg:https://northcentralnews.net/wp-content/uploads/2023/11/DBG_Lumi2022_012-1.jpg
END:VEVENT
BEGIN:VEVENT
DTSTART;VALUE=DATE:20231122
DTEND;VALUE=DATE:20240115
DTSTAMP:20260425T080904
CREATED:20231101T195634Z
LAST-MODIFIED:20231101T195634Z
UID:35376-1700611200-1705276799@northcentralnews.net
SUMMARY:ZooLights
DESCRIPTION:
URL:https://northcentralnews.net/event/zoolights/
LOCATION:Phoenix Zoo\, 455 N. Galvin Parkway\, Phoenix\, AZ\, 85008\, United States
CATEGORIES:annual event,family-friendly,outdoor event
ATTACH;FMTTYPE=image/jpeg:https://northcentralnews.net/wp-content/uploads/2023/11/Phoenix-ZooLights.jpg
END:VEVENT
BEGIN:VEVENT
DTSTART;VALUE=DATE:20231118
DTEND;VALUE=DATE:20231119
DTSTAMP:20260425T080904
CREATED:20231101T194451Z
LAST-MODIFIED:20231101T194451Z
UID:35366-1700265600-1700351999@northcentralnews.net
SUMMARY:14th Annual Festival of the Arts
DESCRIPTION:
URL:https://northcentralnews.net/event/14th-annual-festival-of-the-arts/
LOCATION:Herberger Theater Center\, 222 E. Monroe St.\, Phoenix\, AZ\, 85004\, United States
CATEGORIES:annual event,art and craft,family-friendly,live music,marketplace,outdoor event
ATTACH;FMTTYPE=image/jpeg:https://northcentralnews.net/wp-content/uploads/2023/11/Festival-of-the-Arts.jpeg
END:VEVENT
BEGIN:VEVENT
DTSTART;VALUE=DATE:20231111
DTEND;VALUE=DATE:20231112
DTSTAMP:20260425T080904
CREATED:20231101T191357Z
LAST-MODIFIED:20231101T191357Z
UID:35354-1699660800-1699747199@northcentralnews.net
SUMMARY:Phoenix Veterans Day Parade
DESCRIPTION:
URL:https://northcentralnews.net/event/phoenix-veterans-day-parade/
LOCATION:AZ
CATEGORIES:annual event,family-friendly,special event
ATTACH;FMTTYPE=image/jpeg:https://northcentralnews.net/wp-content/uploads/2023/11/Phoenix-Veterans-Day-Parade.jpg
END:VEVENT
BEGIN:VEVENT
DTSTART;TZID=America/Phoenix:20231104T090000
DTEND;TZID=America/Phoenix:20231104T170000
DTSTAMP:20260425T080904
CREATED:20231005T170857Z
LAST-MODIFIED:20231005T170857Z
UID:35100-1699088400-1699117200@northcentralnews.net
SUMMARY:20th Annual Phoenix Pagan Pride Day
DESCRIPTION:
URL:https://northcentralnews.net/event/20th-annual-phoenix-pagan-pride-day/
LOCATION:Steele Indian School Park\, 300 E. Indian School Rd.\, Phoenix\, AZ\, 85012\, United States
CATEGORIES:annual event,free,outdoor festival
ATTACH;FMTTYPE=image/jpeg:https://northcentralnews.net/wp-content/uploads/2023/09/Pagan-Pride_FB_IMG_1686258156335.jpg
END:VEVENT
BEGIN:VEVENT
DTSTART;TZID=America/Phoenix:20231028T170000
DTEND;TZID=America/Phoenix:20231029T210000
DTSTAMP:20260425T080904
CREATED:20231005T211859Z
LAST-MODIFIED:20231005T211859Z
UID:35145-1698512400-1698613200@northcentralnews.net
SUMMARY:Otsukimi - Moon Viewing
DESCRIPTION:
URL:https://northcentralnews.net/event/otsukimi-moon-viewing/
LOCATION:Japanese Friendship Garden\, 1125 N. 3rd Ave.\, Phoenix\, AZ\, 85004\, United States
CATEGORIES:annual event,family-friendly,outdoor event
ATTACH;FMTTYPE=image/png:https://northcentralnews.net/wp-content/uploads/2023/10/Otsukimi.png
END:VEVENT
BEGIN:VEVENT
DTSTART;TZID=America/Phoenix:20231006T080000
DTEND;TZID=America/Phoenix:20231008T170000
DTSTAMP:20260425T080904
CREATED:20230926T062946Z
LAST-MODIFIED:20230926T062946Z
UID:35032-1696579200-1696784400@northcentralnews.net
SUMMARY:62nd Annual Phoenix Greek Festival
DESCRIPTION:Friday\, Oct. 6\, 5-10 p.m.\nSaturday\, Oct. 7\, 11 a.m.-10 p.m.\nSunday\, Oct. 8\, 11 a.m.-6 p.m.
URL:https://northcentralnews.net/event/62nd-annual-phoenix-greek-festival/
LOCATION:Holy Trinity Greek Orthodox Cathedral\, 1973 E. Maryland Ave.\, Phoenix\, AZ\, 85016\, United States
CATEGORIES:annual event,family-friendly
ATTACH;FMTTYPE=image/jpeg:https://northcentralnews.net/wp-content/uploads/2023/09/greek-festival.jpg
END:VEVENT
BEGIN:VEVENT
DTSTART;VALUE=DATE:20230922
DTEND;VALUE=DATE:20231030
DTSTAMP:20260425T080904
CREATED:20230824T204633Z
LAST-MODIFIED:20230824T204633Z
UID:34722-1695340800-1698623999@northcentralnews.net
SUMMARY:Arizona State Fair
DESCRIPTION:Select dates and times
URL:https://northcentralnews.net/event/arizona-state-fair/
LOCATION:Arizona State Fairgrounds\, 1826 W. McDowell Rd.\, Phoenix\, AZ\, 85007\, United States
CATEGORIES:annual event,family-friendly,special event
ATTACH;FMTTYPE=image/jpeg:https://northcentralnews.net/wp-content/uploads/2023/08/Arizona-State-Fair.jpg
END:VEVENT
BEGIN:VEVENT
DTSTART;VALUE=DATE:20230704
DTEND;VALUE=DATE:20230705
DTSTAMP:20260425T080904
CREATED:20230626T203256Z
LAST-MODIFIED:20230626T203256Z
UID:34075-1688428800-1688515199@northcentralnews.net
SUMMARY:Fabulous Phoenix 4th
DESCRIPTION:Parking will be restricted at the park for this event. Visit the event website for complete details.
URL:https://northcentralnews.net/event/fabulous-phoenix-4th/
LOCATION:Steele Indian School Park\, 300 E. Indian School Rd.\, Phoenix\, AZ\, 85012\, United States
CATEGORIES:annual event,family-friendly,outdoor event
ATTACH;FMTTYPE=image/jpeg:https://northcentralnews.net/wp-content/uploads/2023/06/Fabulous-Phoenix-Fourth.jpg
END:VEVENT
BEGIN:VEVENT
DTSTART;TZID=America/Phoenix:20230621T113000
DTEND;TZID=America/Phoenix:20230621T130000
DTSTAMP:20260425T080904
CREATED:20230601T190218Z
LAST-MODIFIED:20230601T190218Z
UID:33733-1687347000-1687352400@northcentralnews.net
SUMMARY:Summer Solstice Celebration
DESCRIPTION:
URL:https://northcentralnews.net/event/summer-solstice-celebration/
LOCATION:Burton Barr Central Library\, 1221 N. Central Ave.\, Phoenix\, AZ\, 85004\, United States
CATEGORIES:annual event,family-friendly,free
ATTACH;FMTTYPE=image/jpeg:https://northcentralnews.net/wp-content/uploads/2023/06/Phx-Library-Solstice_1681321304.jpg
END:VEVENT
BEGIN:VEVENT
DTSTART;VALUE=DATE:20230602
DTEND;VALUE=DATE:20230605
DTSTAMP:20260425T080904
CREATED:20230503T214056Z
LAST-MODIFIED:20230503T214056Z
UID:33444-1685664000-1685923199@northcentralnews.net
SUMMARY:Phoenix Fan Fusion
DESCRIPTION:
URL:https://northcentralnews.net/event/phoenix-fan-fusion/
LOCATION:Phoenix Covention Center\, 100 N. 3rd St.\, Phoenix\, AZ\, 85004\, United States
CATEGORIES:annual event,family-friendly,special event
ATTACH;FMTTYPE=image/jpeg:https://northcentralnews.net/wp-content/uploads/2023/05/Phoenix-Fan-Fusion.jpeg
END:VEVENT
BEGIN:VEVENT
DTSTART;TZID=America/Phoenix:20230422T130000
DTEND;TZID=America/Phoenix:20230422T170000
DTSTAMP:20260425T080904
CREATED:20230407T180215Z
LAST-MODIFIED:20230407T180215Z
UID:33142-1682168400-1682182800@northcentralnews.net
SUMMARY:11th Annual DTPHX Urban Wine Walk
DESCRIPTION:
URL:https://northcentralnews.net/event/11th-annual-dtphx-urban-wine-walk/
LOCATION:Downtown Phoenix Inc.\, 1 E. Washington St.\, Phoenix\, AZ\, 85004\, United States
CATEGORIES:annual event,eat and drink,special event
ATTACH;FMTTYPE=image/jpeg:https://northcentralnews.net/wp-content/uploads/2023/04/DTPHX-Inc-Urban-Wine-Walk-2022-54-1.jpg
END:VEVENT
BEGIN:VEVENT
DTSTART;VALUE=DATE:20230311
DTEND;VALUE=DATE:20230312
DTSTAMP:20260425T080904
CREATED:20230301T195748Z
LAST-MODIFIED:20230301T195748Z
UID:32765-1678492800-1678579199@northcentralnews.net
SUMMARY:St. Patrick’s Day Parade & Irish Family Faire
DESCRIPTION:The Parade begins at 10 a.m. on 3rd Street and Oak Street. The Faire will be open from 10 a.m. to 5 p.m. at Margaret T. Hance Park on the east side. Visit the website for additional information.
URL:https://northcentralnews.net/event/st-patricks-day-parade-irish-family-faire/
LOCATION:AZ
CATEGORIES:annual event,family-friendly,outdoor event
ATTACH;FMTTYPE=image/jpeg:https://northcentralnews.net/wp-content/uploads/2023/03/ICC_PARADE_2022-31.jpg
END:VEVENT
BEGIN:VEVENT
DTSTART;TZID=America/Phoenix:20230304T110000
DTEND;TZID=America/Phoenix:20230304T170000
DTSTAMP:20260425T080904
CREATED:20230208T214128Z
LAST-MODIFIED:20230208T214128Z
UID:32616-1677927600-1677949200@northcentralnews.net
SUMMARY:Melrose 7th Avenue Street Fair
DESCRIPTION:The Melrose Street Fair runs along 7th Avenue from Indian School Road to Campbell Avenue\, is free to the public and features over 200 local and independent artisans\, food trucks\, live music\, a farmers’ market\, kid’s activities and craft beer garden.
URL:https://northcentralnews.net/event/melrose-7th-avenue-street-fair/
LOCATION:AZ
CATEGORIES:annual event,family-friendly,outdoor event
ATTACH;FMTTYPE=image/jpeg:https://northcentralnews.net/wp-content/uploads/2023/02/Melrose_Resized_Resized_20220305_124420.jpg
END:VEVENT
BEGIN:VEVENT
DTSTART;VALUE=DATE:20230121
DTEND;VALUE=DATE:20230130
DTSTAMP:20260425T080904
CREATED:20230102T220828Z
LAST-MODIFIED:20230102T220828Z
UID:31546-1674259200-1675036799@northcentralnews.net
SUMMARY:Barrett-Jackson Scottsdale Auction
DESCRIPTION:The 1956 Lincoln Continental Custom Mark II is just one of hundreds of vehicles included in this year’s Barrett-Jackson Scottsdale Auction.
URL:https://northcentralnews.net/event/barrett-jackson-scottsdale-auction/
LOCATION:WestWorld of Scottsdale\, 16601 N. Pima Rd.\, Scottsdale\, AZ\, 85260\, United States
CATEGORIES:annual event,auction
ATTACH;FMTTYPE=image/jpeg:https://northcentralnews.net/wp-content/uploads/2023/01/Barrett-Jackson.jpg
END:VEVENT
END:VCALENDAR