BEGIN:VCALENDAR
VERSION:2.0
PRODID:-//North Central News - ECPv6.15.18//NONSGML v1.0//EN
CALSCALE:GREGORIAN
METHOD:PUBLISH
X-ORIGINAL-URL:https://northcentralnews.net
X-WR-CALDESC:Events for North Central News
REFRESH-INTERVAL;VALUE=DURATION:PT1H
X-Robots-Tag:noindex
X-PUBLISHED-TTL:PT1H
BEGIN:VTIMEZONE
TZID:America/Phoenix
BEGIN:STANDARD
TZOFFSETFROM:-0700
TZOFFSETTO:-0700
TZNAME:MST
DTSTART:20220101T000000
END:STANDARD
END:VTIMEZONE
BEGIN:VEVENT
DTSTART;VALUE=DATE:20260306
DTEND;VALUE=DATE:20260330
DTSTAMP:20260419T144534
CREATED:20260224T203300Z
LAST-MODIFIED:20260224T203300Z
UID:44450-1772755200-1774828799@northcentralnews.net
SUMMARY:Exhibit: ‘Barrio’
DESCRIPTION:Feature photo: “Las Comadres” (oil; 20”x30”) by Gloria Cuádraz
URL:https://northcentralnews.net/event/exhibit-barrio/
LOCATION:Herberger Theater Center\, 222 E. Monroe St.\, Phoenix\, AZ\, 85004\, United States
CATEGORIES:art exhibition
ATTACH;FMTTYPE=image/jpeg:https://northcentralnews.net/wp-content/uploads/2026/02/Barrio_Cuadraz-Las-Comadres-Gloria-Cuadraz-scaled-1.jpg
END:VEVENT
BEGIN:VEVENT
DTSTART;VALUE=DATE:20260206
DTEND;VALUE=DATE:20260302
DTSTAMP:20260419T144534
CREATED:20260126T214928Z
LAST-MODIFIED:20260126T214928Z
UID:44030-1770336000-1772409599@northcentralnews.net
SUMMARY:Exhibit: ‘Color’
DESCRIPTION:Select dates and times \n(photo: “Beautiful Women of Kenya” by Becky Spradling – see the entire piece on the event website)
URL:https://northcentralnews.net/event/exhibit-color/
LOCATION:Herberger Theater Center\, 222 E. Monroe St.\, Phoenix\, AZ\, 85004\, United States
CATEGORIES:art,art exhibition
ATTACH;FMTTYPE=image/jpeg:https://northcentralnews.net/wp-content/uploads/2026/01/Herberger_Spradling-Beautiful-Women-of-Kenya-scaled-1.jpg
END:VEVENT
BEGIN:VEVENT
DTSTART;VALUE=DATE:20260206
DTEND;VALUE=DATE:20260207
DTSTAMP:20260419T144534
CREATED:20260126T221856Z
LAST-MODIFIED:20260126T221856Z
UID:44062-1770336000-1770422399@northcentralnews.net
SUMMARY:First Friday: ‘Blue Bird’ exhibition opening
DESCRIPTION:
URL:https://northcentralnews.net/event/first-friday-blue-bird-exhibition-opening/
LOCATION:Heard Museum\, 2301 N. Central Ave.\, Phoenix\, AZ\, 85004\, United States
CATEGORIES:art exhibition,cultural event,free
END:VEVENT
BEGIN:VEVENT
DTSTART;VALUE=DATE:20260116
DTEND;VALUE=DATE:20260216
DTSTAMP:20260419T144534
CREATED:20260126T223454Z
LAST-MODIFIED:20260126T223454Z
UID:44083-1768521600-1771199999@northcentralnews.net
SUMMARY:‘Invasive Species’
DESCRIPTION:Select dates and times
URL:https://northcentralnews.net/event/invasive-species/
LOCATION:Modified Arts\, 407 E. Roosevelt St.\, Phoenix\, AZ\, 85004\, United States
CATEGORIES:art exhibition
ATTACH;FMTTYPE=image/jpeg:https://northcentralnews.net/wp-content/uploads/2026/01/InvasiveSpeciesMAINposter.jpg
END:VEVENT
BEGIN:VEVENT
DTSTART;VALUE=DATE:20250901
DTEND;VALUE=DATE:20250902
DTSTAMP:20260419T144534
CREATED:20250730T232657Z
LAST-MODIFIED:20250730T232657Z
UID:42136-1756684800-1756771199@northcentralnews.net
SUMMARY:‘SEEDS – Foundation of Life\, Hope for the Future’
DESCRIPTION:This permanent display can be viewed every day during open hours.
URL:https://northcentralnews.net/event/seeds-foundation-of-life-hope-for-the-future/
LOCATION:North Mountain Visitors Center\, 12950 N. 7th St.\, Phoenix\, AZ\, 85022\, United States
CATEGORIES:art exhibition,educational
ATTACH;FMTTYPE=image/jpeg:https://northcentralnews.net/wp-content/uploads/2025/07/N-Mountain_botanical-print.jpg
END:VEVENT
BEGIN:VEVENT
DTSTART;VALUE=DATE:20250815
DTEND;VALUE=DATE:20250915
DTSTAMP:20260419T144534
CREATED:20250901T203057Z
LAST-MODIFIED:20250901T203057Z
UID:42446-1755216000-1757894399@northcentralnews.net
SUMMARY:Hedda Neelsen: ‘Waking Matter’
DESCRIPTION:Select dates and times
URL:https://northcentralnews.net/event/hedda-neelsen-waking-matter/
LOCATION:Eye Lounge\, 922 North 5th Street\, Phoenix\, AZ\, 85004\, United States
CATEGORIES:art exhibition
ATTACH;FMTTYPE=image/jpeg:https://northcentralnews.net/wp-content/uploads/2025/09/Eye-Lounge_HeddaWebsiteImage.jpg
END:VEVENT
BEGIN:VEVENT
DTSTART;VALUE=DATE:20250718
DTEND;VALUE=DATE:20250811
DTSTAMP:20260419T144534
CREATED:20250730T225625Z
LAST-MODIFIED:20250730T225625Z
UID:42116-1752796800-1754870399@northcentralnews.net
SUMMARY:Eyes on 25: 25th Anniversary Exhibition
DESCRIPTION:Select dates and times
URL:https://northcentralnews.net/event/eyes-on-25-25th-anniversary-exhibition/
LOCATION:Eye Lounge\, 922 North 5th Street\, Phoenix\, AZ\, 85004\, United States
CATEGORIES:art,art exhibition,special event
ATTACH;FMTTYPE=image/jpeg:https://northcentralnews.net/wp-content/uploads/2025/07/EL.jpg
END:VEVENT
BEGIN:VEVENT
DTSTART;VALUE=DATE:20250422
DTEND;VALUE=DATE:20250602
DTSTAMP:20260419T144534
CREATED:20250422T211301Z
LAST-MODIFIED:20250422T211301Z
UID:41215-1745280000-1748822399@northcentralnews.net
SUMMARY:‘Toward 2050’
DESCRIPTION:
URL:https://northcentralnews.net/event/toward-2050/
LOCATION:Desert Botanical Garden\, 1201 N. Galvin Pkwy.\, Phoenix\, AZ\, 85008\, United States
CATEGORIES:art exhibition,interactive experience,nature
ATTACH;FMTTYPE=image/jpeg:https://northcentralnews.net/wp-content/uploads/2025/04/DBG_Toward-PC-5.jpg
END:VEVENT
BEGIN:VEVENT
DTSTART;VALUE=DATE:20250404
DTEND;VALUE=DATE:20250405
DTSTAMP:20260419T144534
CREATED:20250326T201844Z
LAST-MODIFIED:20250326T201844Z
UID:40874-1743724800-1743811199@northcentralnews.net
SUMMARY:Exhibition Opening –  ‘Bob Haozous: A Retrospective View’
DESCRIPTION:Feature photo: Princess Crown\, Bob Haozous (1990); Turquoise\, coral\, silver\, 14k gold. Collection of Gary\, Brenda and Hayley Ruttenburg.
URL:https://northcentralnews.net/event/exhibition-opening-bob-haozous-a-retrospective-view/
LOCATION:Heard Museum\, 2301 N. Central Ave.\, Phoenix\, AZ\, 85004\, United States
CATEGORIES:art exhibition
ATTACH;FMTTYPE=image/jpeg:https://northcentralnews.net/wp-content/uploads/2025/03/Heard_Princess-Crown.jpg
END:VEVENT
BEGIN:VEVENT
DTSTART;VALUE=DATE:20250321
DTEND;VALUE=DATE:20250414
DTSTAMP:20260419T144534
CREATED:20250326T212815Z
LAST-MODIFIED:20250326T212815Z
UID:40891-1742515200-1744588799@northcentralnews.net
SUMMARY:‘Traces’
DESCRIPTION:Select dates and times
URL:https://northcentralnews.net/event/traces/
LOCATION:Modified Arts\, 407 E. Roosevelt St.\, Phoenix\, AZ\, 85004\, United States
CATEGORIES:art exhibition
ATTACH;FMTTYPE=image/jpeg:https://northcentralnews.net/wp-content/uploads/2025/03/TRACES_webposter_Hyewon.jpg
END:VEVENT
BEGIN:VEVENT
DTSTART;VALUE=DATE:20250307
DTEND;VALUE=DATE:20250331
DTSTAMP:20260419T144534
CREATED:20250226T190808Z
LAST-MODIFIED:20250226T190808Z
UID:40593-1741305600-1743379199@northcentralnews.net
SUMMARY:Barrio Exhibit
DESCRIPTION:Artwork: “Las Quatro Esquinas” by Peter Farrow
URL:https://northcentralnews.net/event/barrio-exhibit/
LOCATION:Herberger Theater Center\, 222 E. Monroe St.\, Phoenix\, AZ\, 85004\, United States
CATEGORIES:art exhibition
ATTACH;FMTTYPE=image/jpeg:https://northcentralnews.net/wp-content/uploads/2025/02/ott-Peter-Farrow-Las-Quatro-Esquinas.jpg
END:VEVENT
BEGIN:VEVENT
DTSTART;VALUE=DATE:20250101
DTEND;VALUE=DATE:20250201
DTSTAMP:20260419T144534
CREATED:20250101T005124Z
LAST-MODIFIED:20250101T005124Z
UID:39981-1735689600-1738367999@northcentralnews.net
SUMMARY:‘The Collection: Dutch Art Expanded’
DESCRIPTION:This installation is ongoing; check with the museum for dates and information. \nPictured: Rachel Bess\, “Rotting-Apple\, Prone\,” 2015 Oil on panel (photo courtesy of the artist and Lisa Sette Gallery)
URL:https://northcentralnews.net/event/the-collection-dutch-art-expanded/
LOCATION:Phoenix Art Museum\, 1625 N. Central Ave.\, Phoenix\, AZ\, 85004\, United States
CATEGORIES:art exhibition
ATTACH;FMTTYPE=image/jpeg:https://northcentralnews.net/wp-content/uploads/2024/12/Rachel-Bess-Rotting-Apple-Prone-2015.-Oil-on-panel.-Courtesy-of-artist-Lisa-Sette-Gallery.jpg
END:VEVENT
BEGIN:VEVENT
DTSTART;VALUE=DATE:20241206
DTEND;VALUE=DATE:20250526
DTSTAMP:20260419T144534
CREATED:20250326T225118Z
LAST-MODIFIED:20250326T225118Z
UID:40921-1733443200-1748217599@northcentralnews.net
SUMMARY:‘Richard Avedon: Among Creatives’
DESCRIPTION:Feature photo: “Marian Anderson\, contralto” (1955\, Richard Avedon)
URL:https://northcentralnews.net/event/richard-avedon-among-creatives/
LOCATION:Phoenix Art Museum\, 1625 N. Central Ave.\, Phoenix\, AZ\, 85004\, United States
CATEGORIES:art exhibition
ATTACH;FMTTYPE=image/jpeg:https://northcentralnews.net/wp-content/uploads/2025/03/PhxArt_Marian-Anderson-contralto-New-York-June-30-1955_o2.jpg
END:VEVENT
BEGIN:VEVENT
DTSTART;VALUE=DATE:20240920
DTEND;VALUE=DATE:20241111
DTSTAMP:20260419T144534
CREATED:20241030T232852Z
LAST-MODIFIED:20241030T232852Z
UID:39256-1726790400-1731283199@northcentralnews.net
SUMMARY:‘e(Merge)’
DESCRIPTION:Select dates and times \n(Pictured: “Feed your head” by Alison Auditore)
URL:https://northcentralnews.net/event/emerge/
LOCATION:Eye Lounge\, 922 North 5th Street\, Phoenix\, AZ\, 85004\, United States
CATEGORIES:art exhibition
ATTACH;FMTTYPE=image/jpeg:https://northcentralnews.net/wp-content/uploads/2024/10/Eye_Feed-Your-Head-by-Alison-Auditore.jpg
END:VEVENT
BEGIN:VEVENT
DTSTART;VALUE=DATE:20240802
DTEND;VALUE=DATE:20240930
DTSTAMP:20260419T144534
CREATED:20240724T190731Z
LAST-MODIFIED:20240724T190731Z
UID:38221-1722556800-1727654399@northcentralnews.net
SUMMARY:Kids in Focus Photography
DESCRIPTION:An opening reception is scheduled for Saturday\, Aug. 24\, 2 p.m. to 4 p.m. 
URL:https://northcentralnews.net/event/kids-in-focus-photography/
LOCATION:Herberger Theater Center\, 222 E. Monroe St.\, Phoenix\, AZ\, 85004\, United States
CATEGORIES:art exhibition,family-friendly
ATTACH;FMTTYPE=image/jpeg:https://northcentralnews.net/wp-content/uploads/2024/07/Kids-in-Focus.jpg
END:VEVENT
BEGIN:VEVENT
DTSTART;VALUE=DATE:20240621
DTEND;VALUE=DATE:20240715
DTSTAMP:20260419T144534
CREATED:20240626T222830Z
LAST-MODIFIED:20240626T222830Z
UID:37953-1718928000-1721001599@northcentralnews.net
SUMMARY:‘All Eyes On You II’
DESCRIPTION:Select dates and times \nModified Arts is located at 407 E. Roosevelt St.\, Phoenix\, AZ 85004
URL:https://northcentralnews.net/event/all-eyes-on-you-ii/
LOCATION:Eye Lounge\, 922 North 5th Street\, Phoenix\, AZ\, 85004\, United States
CATEGORIES:art exhibition
ATTACH;FMTTYPE=image/jpeg:https://northcentralnews.net/wp-content/uploads/2024/06/All-eyes-on-you-II.jpg
END:VEVENT
BEGIN:VEVENT
DTSTART;VALUE=DATE:20240419
DTEND;VALUE=DATE:20240615
DTSTAMP:20260419T144534
CREATED:20240424T230846Z
LAST-MODIFIED:20240424T230846Z
UID:37237-1713484800-1718409599@northcentralnews.net
SUMMARY:George Strasburger: ‘Any One of Us’
DESCRIPTION:Select dates and times \nPictured: “Waiting” by George Strasburger
URL:https://northcentralnews.net/event/george-strasburger-any-one-of-us/
LOCATION:Modified Arts\, 407 E. Roosevelt St.\, Phoenix\, AZ\, 85004\, United States
CATEGORIES:art exhibition
ATTACH;FMTTYPE=image/jpeg:https://northcentralnews.net/wp-content/uploads/2024/04/Modified_George-Strasburger_Any-One-of-Us_Waiting_20x24.jpg
END:VEVENT
BEGIN:VEVENT
DTSTART;VALUE=DATE:20240405
DTEND;VALUE=DATE:20240422
DTSTAMP:20260419T144534
CREATED:20240325T210846Z
LAST-MODIFIED:20240326T024531Z
UID:36883-1712275200-1713743999@northcentralnews.net
SUMMARY:Inspired by O’Keeffe Exhibit
DESCRIPTION:(Artwork: “Sticks and Flowers” by Linda Smith) \n 
URL:https://northcentralnews.net/event/inspired-by-okeeffe-exhibit/
LOCATION:Herberger Theater Center\, 222 E. Monroe St.\, Phoenix\, AZ\, 85004\, United States
CATEGORIES:art exhibition
ATTACH;FMTTYPE=image/jpeg:https://northcentralnews.net/wp-content/uploads/2024/03/Herberger_Linda-Smith-Sticks-and-Flowers-scaled-1.jpg
END:VEVENT
BEGIN:VEVENT
DTSTART;VALUE=DATE:20240223
DTEND;VALUE=DATE:20240729
DTSTAMP:20260419T144534
CREATED:20240529T183810Z
LAST-MODIFIED:20240529T184427Z
UID:37585-1708646400-1722211199@northcentralnews.net
SUMMARY:‘Maria & Modernism’
DESCRIPTION:(Photo: Maria Martinez and Popovi Da. Black-on-black jar\, 1964; courtesy of Heard Museum)
URL:https://northcentralnews.net/event/maria-modernism/
LOCATION:Heard Museum\, 2301 N. Central Ave.\, Phoenix\, AZ\, 85004\, United States
CATEGORIES:art exhibition
ATTACH;FMTTYPE=image/jpeg:https://northcentralnews.net/wp-content/uploads/2024/05/Heard-Maria-and-Modernism.jpg
END:VEVENT
BEGIN:VEVENT
DTSTART;VALUE=DATE:20231105
DTEND;VALUE=DATE:20240226
DTSTAMP:20260419T144534
CREATED:20231121T214619Z
LAST-MODIFIED:20231121T214619Z
UID:35683-1699142400-1708905599@northcentralnews.net
SUMMARY:‘Amalia Mesa-Bains: Archaeology of Memory’
DESCRIPTION:‘Cihuateotl with Mirror in Private Landscapes and Public Territories’ 1998-2011 (photo by Michael Karibian\, courtesy of the artist)
URL:https://northcentralnews.net/event/amalia-mesa-bains-archaeology-of-memory/
LOCATION:Phoenix Art Museum\, 1625 N. Central Ave.\, Phoenix\, AZ\, 85004\, United States
CATEGORIES:art exhibition
ATTACH;FMTTYPE=image/jpeg:https://northcentralnews.net/wp-content/uploads/2023/11/PHX-Art_AMB-VE-III-PL-PT-Cihuatlampa-with-Mirror_o2.jpg
END:VEVENT
BEGIN:VEVENT
DTSTART;VALUE=DATE:20231105
DTEND;VALUE=DATE:20231211
DTSTAMP:20260419T144534
CREATED:20231101T190245Z
LAST-MODIFIED:20231101T190245Z
UID:35347-1699142400-1702252799@northcentralnews.net
SUMMARY:The art of Mary Boehm
DESCRIPTION:Gallery open various dates and times
URL:https://northcentralnews.net/event/the-art-of-mary-boehm/
LOCATION:Church of the Beatitudes\, 555 W. Glendale Ave.\, Phoenix\, AZ\, 85021\, United States
CATEGORIES:art exhibition
ATTACH;FMTTYPE=image/jpeg:https://northcentralnews.net/wp-content/uploads/2023/11/Mary-Boehm.jpg
END:VEVENT
BEGIN:VEVENT
DTSTART;VALUE=DATE:20231006
DTEND;VALUE=DATE:20240513
DTSTAMP:20260419T144534
CREATED:20240424T215946Z
LAST-MODIFIED:20240424T215946Z
UID:37170-1696550400-1715558399@northcentralnews.net
SUMMARY:Art on the Wild Side: ‘The Bigger Picture’
DESCRIPTION:(photo by Yam Siton)
URL:https://northcentralnews.net/event/art-on-the-wild-side-the-bigger-picture/
LOCATION:Phoenix Zoo\, 455 N. Galvin Parkway\, Phoenix\, AZ\, 85008\, United States
CATEGORIES:art exhibition,family-friendly
ATTACH;FMTTYPE=image/jpeg:https://northcentralnews.net/wp-content/uploads/2024/04/Phoenix-Zoo_6.-Same_Photo-by-Yam-Siton.jpg
END:VEVENT
BEGIN:VEVENT
DTSTART;VALUE=DATE:20230602
DTEND;VALUE=DATE:20230603
DTSTAMP:20260419T144534
CREATED:20230601T182444Z
LAST-MODIFIED:20230601T182444Z
UID:33701-1685664000-1685750399@northcentralnews.net
SUMMARY:‘BIG 2’ exhibit opening
DESCRIPTION:“BIG 2” will be on display through July 28.
URL:https://northcentralnews.net/event/big-2-exhibit-opening/
LOCATION:Herberger Theater Center\, 222 E. Monroe St.\, Phoenix\, AZ\, 85004\, United States
CATEGORIES:art exhibition
END:VEVENT
BEGIN:VEVENT
DTSTART;VALUE=DATE:20230602
DTEND;VALUE=DATE:20230603
DTSTAMP:20260419T144534
CREATED:20230601T182016Z
LAST-MODIFIED:20230601T182016Z
UID:33696-1685664000-1685750399@northcentralnews.net
SUMMARY:First Friday Art Walk
DESCRIPTION:Explore art galleries in Downtown Phoenix every first and third Friday of the month. Visit the event website for locations. \n(photo courtesy of Visit Phoenix)
URL:https://northcentralnews.net/event/first-friday-art-walk/
LOCATION:AZ
CATEGORIES:art exhibition,free
ATTACH;FMTTYPE=image/jpeg:https://northcentralnews.net/wp-content/uploads/2023/06/First-Friday_198-3-10240_courtesy-Visit-Phoenix.jpg
END:VEVENT
BEGIN:VEVENT
DTSTART;VALUE=DATE:20230601
DTEND;VALUE=DATE:20230717
DTSTAMP:20260419T144534
CREATED:20230601T191945Z
LAST-MODIFIED:20230601T191945Z
UID:33747-1685577600-1689551999@northcentralnews.net
SUMMARY:He‘e Nalu — The Art and Legacy of Hawaiian Surfing
DESCRIPTION:Alessa U’i Nani Qizon Holloway (Kānaka Maoli) “duck diving” off the shores of Mākaha\, O’ahu\, 2016 (photo courtesy of Haʻa Keaulana)
URL:https://northcentralnews.net/event/hee-nalu-the-art-and-legacy-of-hawaiian-surfing/
LOCATION:Heard Museum\, 2301 N. Central Ave.\, Phoenix\, AZ\, 85004\, United States
CATEGORIES:art exhibition,family-friendly
ATTACH;FMTTYPE=image/jpeg:https://northcentralnews.net/wp-content/uploads/2023/06/Heard_Haa-Keaulana-2.jpg
END:VEVENT
BEGIN:VEVENT
DTSTART;VALUE=DATE:20230506
DTEND;VALUE=DATE:20230918
DTSTAMP:20260419T144534
CREATED:20230726T201648Z
LAST-MODIFIED:20230726T201648Z
UID:34344-1683331200-1694995199@northcentralnews.net
SUMMARY:‘Juan Francisco Elso: Por América’
DESCRIPTION:Juan Francisco Elso with Caballo contra colibri (photo by Christina Lobeira\, courtesy of Phoenix Art Museum)
URL:https://northcentralnews.net/event/juan-francisco-elso-por-america/
LOCATION:Phoenix Art Museum\, 1625 N. Central Ave.\, Phoenix\, AZ\, 85004\, United States
CATEGORIES:art exhibition
ATTACH;FMTTYPE=image/jpeg:https://northcentralnews.net/wp-content/uploads/2023/07/PHX-ART_Juan-Francisco-Elso-with-Caballo-contra-colibri-Photo-Christina-Lobeira.jpg
END:VEVENT
BEGIN:VEVENT
DTSTART;VALUE=DATE:20230407
DTEND;VALUE=DATE:20230408
DTSTAMP:20260419T144534
CREATED:20230401T234046Z
LAST-MODIFIED:20230401T234046Z
UID:33009-1680825600-1680911999@northcentralnews.net
SUMMARY:‘The North Star Changes: Works by Brenda Mallory’
DESCRIPTION:Brenda Mallory (Cherokee Nation); photo by Mario Galluci
URL:https://northcentralnews.net/event/the-north-star-changes-works-by-brenda-mallory/
LOCATION:Heard Museum\, 2301 N. Central Ave.\, Phoenix\, AZ\, 85004\, United States
CATEGORIES:art exhibition
ATTACH;FMTTYPE=image/jpeg:https://northcentralnews.net/wp-content/uploads/2023/04/Heard_Mallory-Headshot-Gallucci-crop.jpg
END:VEVENT
BEGIN:VEVENT
DTSTART;VALUE=DATE:20230303
DTEND;VALUE=DATE:20230304
DTSTAMP:20260419T144534
CREATED:20230301T211752Z
LAST-MODIFIED:20230301T211752Z
UID:32819-1677801600-1677887999@northcentralnews.net
SUMMARY:Barb Dysart ‘Making HERstory’ exhibit opening
DESCRIPTION:Artwork: RAISING POWERFUL WOMEN by Barb Dysart
URL:https://northcentralnews.net/event/barb-dysart-making-herstory-exhibit-opening/
LOCATION:Herberger Theater Center\, 222 E. Monroe St.\, Phoenix\, AZ\, 85004\, United States
CATEGORIES:art exhibition
ATTACH;FMTTYPE=image/jpeg:https://northcentralnews.net/wp-content/uploads/2023/03/Herberger_Dysart-RAISING-POWERFUL-WOMEN.jpg
END:VEVENT
END:VCALENDAR