BEGIN:VCALENDAR
VERSION:2.0
PRODID:-//North Central News - ECPv6.15.18//NONSGML v1.0//EN
CALSCALE:GREGORIAN
METHOD:PUBLISH
X-ORIGINAL-URL:https://northcentralnews.net
X-WR-CALDESC:Events for North Central News
REFRESH-INTERVAL;VALUE=DURATION:PT1H
X-Robots-Tag:noindex
X-PUBLISHED-TTL:PT1H
BEGIN:VTIMEZONE
TZID:America/Phoenix
BEGIN:STANDARD
TZOFFSETFROM:-0700
TZOFFSETTO:-0700
TZNAME:MST
DTSTART:20220101T000000
END:STANDARD
END:VTIMEZONE
BEGIN:VEVENT
DTSTART;VALUE=DATE:20230819
DTEND;VALUE=DATE:20230821
DTSTAMP:20260425T095221
CREATED:20230726T195713Z
LAST-MODIFIED:20230726T195713Z
UID:34333-1692403200-1692575999@northcentralnews.net
SUMMARY:Hot Wheels Monster Trucks Live Glow Party
DESCRIPTION:
URL:https://northcentralnews.net/event/hot-wheels-monster-trucks-live-glow-party/
LOCATION:Desert Diamond Arena\, 9400 W. Maryland Ave.\, Glendale\, AZ\, 85305\, United States
CATEGORIES:cars and trucks,family-friendly
ATTACH;FMTTYPE=image/jpeg:https://northcentralnews.net/wp-content/uploads/2023/07/Hot-Wheels_Bigfoot.jpg
END:VEVENT
END:VCALENDAR