BEGIN:VCALENDAR
VERSION:2.0
PRODID:-//North Central News - ECPv6.15.18//NONSGML v1.0//EN
CALSCALE:GREGORIAN
METHOD:PUBLISH
X-WR-CALNAME:North Central News
X-ORIGINAL-URL:https://northcentralnews.net
X-WR-CALDESC:Events for North Central News
REFRESH-INTERVAL;VALUE=DURATION:PT1H
X-Robots-Tag:noindex
X-PUBLISHED-TTL:PT1H
BEGIN:VTIMEZONE
TZID:America/Phoenix
BEGIN:STANDARD
TZOFFSETFROM:-0700
TZOFFSETTO:-0700
TZNAME:MST
DTSTART:20240101T000000
END:STANDARD
END:VTIMEZONE
BEGIN:VEVENT
DTSTART;VALUE=DATE:20251212
DTEND;VALUE=DATE:20251215
DTSTAMP:20260425T181804
CREATED:20251125T182932Z
LAST-MODIFIED:20251125T182932Z
UID:43399-1765497600-1765756799@northcentralnews.net
SUMMARY:‘The Nutcracker’
DESCRIPTION:
URL:https://northcentralnews.net/event/the-nutcracker-6/
LOCATION:Herberger Theater Center\, 222 E. Monroe St.\, Phoenix\, AZ\, 85004\, United States
CATEGORIES:dance,family-friendly
ATTACH;FMTTYPE=image/jpeg:https://northcentralnews.net/wp-content/uploads/2025/11/Herberger_nutcracker-scaled.jpg
END:VEVENT
BEGIN:VEVENT
DTSTART;VALUE=DATE:20251212
DTEND;VALUE=DATE:20251228
DTSTAMP:20260425T181804
CREATED:20251124T195107Z
LAST-MODIFIED:20251124T195107Z
UID:43365-1765497600-1766879999@northcentralnews.net
SUMMARY:‘The Nutcracker’
DESCRIPTION:Select dates and times \n(photo by Tzu Chia Huang)
URL:https://northcentralnews.net/event/the-nutcracker-5/
LOCATION:Phoenix Symphony Hall\, 75 N. 2nd St.\, Phoenix\, AZ\, 85004\, United States
CATEGORIES:dance
ATTACH;FMTTYPE=image/jpeg:https://northcentralnews.net/wp-content/uploads/2025/11/Ballet-Arizona_TheNutcracker_Tzu-Chia-Huang-11.jpg
END:VEVENT
BEGIN:VEVENT
DTSTART;VALUE=DATE:20251213
DTEND;VALUE=DATE:20251215
DTSTAMP:20260425T181804
CREATED:20251124T194925Z
LAST-MODIFIED:20251124T194925Z
UID:43362-1765584000-1765756799@northcentralnews.net
SUMMARY:‘Nikki Claus and Merry Moose\, A Holiday Ballet’
DESCRIPTION:(photo by Gillian Hunter Photography)
URL:https://northcentralnews.net/event/nikki-claus-and-merry-moose-a-holiday-ballet/
LOCATION:Madison Center for the Arts\, 5601 N. 16th St.\, Phoenix\, AZ\, 85016\, United States
CATEGORIES:dance
ATTACH;FMTTYPE=image/jpeg:https://northcentralnews.net/wp-content/uploads/2025/11/DMPCB24-GillianHunterPhotography_-2400.jpg
END:VEVENT
BEGIN:VEVENT
DTSTART;VALUE=DATE:20251220
DTEND;VALUE=DATE:20251222
DTSTAMP:20260425T181804
CREATED:20251125T185249Z
LAST-MODIFIED:20251125T185249Z
UID:43420-1766188800-1766361599@northcentralnews.net
SUMMARY:‘The Arizona Nutcracker’
DESCRIPTION:
URL:https://northcentralnews.net/event/the-arizona-nutcracker-2/
LOCATION:Madison Center for the Arts\, 5601 N. 16th St.\, Phoenix\, AZ\, 85016\, United States
CATEGORIES:dance,family-friendly
ATTACH;FMTTYPE=image/jpeg:https://northcentralnews.net/wp-content/uploads/2025/11/Madison_Arizona-Nutcracker.jpg
END:VEVENT
END:VCALENDAR