BEGIN:VCALENDAR
VERSION:2.0
PRODID:-//North Central News - ECPv6.15.18//NONSGML v1.0//EN
CALSCALE:GREGORIAN
METHOD:PUBLISH
X-WR-CALNAME:North Central News
X-ORIGINAL-URL:https://northcentralnews.net
X-WR-CALDESC:Events for North Central News
REFRESH-INTERVAL;VALUE=DURATION:PT1H
X-Robots-Tag:noindex
X-PUBLISHED-TTL:PT1H
BEGIN:VTIMEZONE
TZID:America/Phoenix
BEGIN:STANDARD
TZOFFSETFROM:-0700
TZOFFSETTO:-0700
TZNAME:MST
DTSTART:20230101T000000
END:STANDARD
END:VTIMEZONE
BEGIN:VEVENT
DTSTART;VALUE=DATE:20250727
DTEND;VALUE=DATE:20250728
DTSTAMP:20260425T125914
CREATED:20250624T220116Z
LAST-MODIFIED:20250624T220116Z
UID:41805-1753574400-1753660799@northcentralnews.net
SUMMARY:Marcos Crego Trio –  Late Night\, No Cover
DESCRIPTION:
URL:https://northcentralnews.net/event/marcos-crego-trio-late-night-no-cover/
LOCATION:The Nash\, 110 E. Roosevelt St.\, Phoenix\, AZ\, 85004\, United States
CATEGORIES:free,live music
ATTACH;FMTTYPE=image/jpeg:https://northcentralnews.net/wp-content/uploads/2025/06/Nash_Crego_Marcos.jpg
END:VEVENT
BEGIN:VEVENT
DTSTART;VALUE=DATE:20250719
DTEND;VALUE=DATE:20250720
DTSTAMP:20260425T125914
CREATED:20250624T215316Z
LAST-MODIFIED:20250624T215316Z
UID:41798-1752883200-1752969599@northcentralnews.net
SUMMARY:Free Family Summer Saturday: Drive and Shine
DESCRIPTION:
URL:https://northcentralnews.net/event/free-family-summer-saturday-drive-and-shine/
LOCATION:Heard Museum\, 2301 N. Central Ave.\, Phoenix\, AZ\, 85004\, United States
CATEGORIES:art and craft,cultural event,family-friendly,free
ATTACH;FMTTYPE=image/jpeg:https://northcentralnews.net/wp-content/uploads/2025/06/Heard_july-ffss.jpg
END:VEVENT
BEGIN:VEVENT
DTSTART;VALUE=DATE:20250702
DTEND;VALUE=DATE:20250731
DTSTAMP:20260425T125914
CREATED:20250624T210523Z
LAST-MODIFIED:20250624T210523Z
UID:41770-1751414400-1753919999@northcentralnews.net
SUMMARY:Pay What You Wish Wednesday
DESCRIPTION:Wednesdays in July
URL:https://northcentralnews.net/event/pay-what-you-wish-wednesday-3/
LOCATION:Phoenix Art Museum\, 1625 N. Central Ave.\, Phoenix\, AZ\, 85004\, United States
CATEGORIES:art,family-friendly,free
ATTACH;FMTTYPE=image/jpeg:https://northcentralnews.net/wp-content/uploads/2025/06/Phoenix-Art-Museum.jpg
END:VEVENT
BEGIN:VEVENT
DTSTART;VALUE=DATE:20250621
DTEND;VALUE=DATE:20250622
DTSTAMP:20260425T125914
CREATED:20250529T225432Z
LAST-MODIFIED:20250529T225432Z
UID:41512-1750464000-1750550399@northcentralnews.net
SUMMARY:Free Family Summer Saturday
DESCRIPTION:
URL:https://northcentralnews.net/event/free-family-summer-saturday-2/
LOCATION:Heard Museum\, 2301 N. Central Ave.\, Phoenix\, AZ\, 85004\, United States
CATEGORIES:cultural event,family-friendly,free
ATTACH;FMTTYPE=image/jpeg:https://northcentralnews.net/wp-content/uploads/2025/05/Heard-family-summer-sunday.jpg
END:VEVENT
BEGIN:VEVENT
DTSTART;VALUE=DATE:20250607
DTEND;VALUE=DATE:20250608
DTSTAMP:20260425T125914
CREATED:20250529T212941Z
LAST-MODIFIED:20250529T212941Z
UID:41484-1749254400-1749340799@northcentralnews.net
SUMMARY:Ask a Ranger/Rattlesnake Garage
DESCRIPTION:
URL:https://northcentralnews.net/event/ask-a-ranger-rattlesnake-garage-2/
LOCATION:North Mountain Visitors Center\, 12950 N. 7th St.\, Phoenix\, AZ\, 85022\, United States
CATEGORIES:educational,family-friendly,free
ATTACH;FMTTYPE=image/jpeg:https://northcentralnews.net/wp-content/uploads/2024/04/North-Mountain-Visitor-Center.jpg
END:VEVENT
BEGIN:VEVENT
DTSTART;VALUE=DATE:20250606
DTEND;VALUE=DATE:20250607
DTSTAMP:20260425T125914
CREATED:20250529T212649Z
LAST-MODIFIED:20250529T212649Z
UID:41482-1749168000-1749254399@northcentralnews.net
SUMMARY:First Friday in the Garden
DESCRIPTION:
URL:https://northcentralnews.net/event/first-friday-in-the-garden/
LOCATION:Japanese Friendship Garden\, 1125 N. 3rd Ave.\, Phoenix\, AZ\, 85004\, United States
CATEGORIES:cultural event,free,outdoor event
ATTACH;FMTTYPE=image/jpeg:https://northcentralnews.net/wp-content/uploads/2025/05/Japanese-Friendship-First-Friday.jpg
END:VEVENT
BEGIN:VEVENT
DTSTART;VALUE=DATE:20250606
DTEND;VALUE=DATE:20250607
DTSTAMP:20260425T125914
CREATED:20250529T212130Z
LAST-MODIFIED:20250529T212718Z
UID:41478-1749168000-1749254399@northcentralnews.net
SUMMARY:First Friday: Silent Disco Redux
DESCRIPTION:
URL:https://northcentralnews.net/event/first-friday-silent-disco-redux/
LOCATION:Heard Museum\, 2301 N. Central Ave.\, Phoenix\, AZ\, 85004\, United States
CATEGORIES:cultural event,dance party,DJ music,free
ATTACH;FMTTYPE=image/jpeg:https://northcentralnews.net/wp-content/uploads/2025/05/Heard_SilentDisco.jpg
END:VEVENT
BEGIN:VEVENT
DTSTART;VALUE=DATE:20250426
DTEND;VALUE=DATE:20250427
DTSTAMP:20260425T125914
CREATED:20250326T221635Z
LAST-MODIFIED:20250326T221635Z
UID:40912-1745625600-1745711999@northcentralnews.net
SUMMARY:Hot Dogs & Jazz
DESCRIPTION:
URL:https://northcentralnews.net/event/hot-dogs-jazz-7/
LOCATION:The Nash\, 110 E. Roosevelt St.\, Phoenix\, AZ\, 85004\, United States
CATEGORIES:family-friendly,free
ATTACH;FMTTYPE=image/jpeg:https://northcentralnews.net/wp-content/uploads/2023/01/Nash_Hot-Dogs-and-Jazz.jpg
END:VEVENT
BEGIN:VEVENT
DTSTART;TZID=America/Phoenix:20250301T110000
DTEND;TZID=America/Phoenix:20250301T170000
DTSTAMP:20260425T125914
CREATED:20250226T182647Z
LAST-MODIFIED:20250226T182647Z
UID:40586-1740826800-1740848400@northcentralnews.net
SUMMARY:Melrose 7th Avenue Street Fair
DESCRIPTION:The event takes place in the Melrose District\, 7th Avenue from Indian School Road north to Campbell Avenue.
URL:https://northcentralnews.net/event/melrose-7th-avenue-street-fair-2/
LOCATION:AZ
CATEGORIES:annual event,family-friendly,food,free,live music,outdoor festival
ATTACH;FMTTYPE=image/jpeg:https://northcentralnews.net/wp-content/uploads/2025/02/ott-Melrose-Street-Fair-2.jpg
END:VEVENT
BEGIN:VEVENT
DTSTART;VALUE=DATE:20250228
DTEND;VALUE=DATE:20250301
DTSTAMP:20260425T125914
CREATED:20250129T184403Z
LAST-MODIFIED:20250129T184403Z
UID:40308-1740700800-1740787199@northcentralnews.net
SUMMARY:The Andrew Walesch Trio –  Late Night\, No Cover
DESCRIPTION:
URL:https://northcentralnews.net/event/the-andrew-walesch-trio-late-night-no-cover/
LOCATION:The Nash\, 110 E. Roosevelt St.\, Phoenix\, AZ\, 85004\, United States
CATEGORIES:free,live music
ATTACH;FMTTYPE=image/jpeg:https://northcentralnews.net/wp-content/uploads/2025/01/Nash_Walesch_Andrew.jpg
END:VEVENT
BEGIN:VEVENT
DTSTART;VALUE=DATE:20250222
DTEND;VALUE=DATE:20250223
DTSTAMP:20260425T125914
CREATED:20250129T183521Z
LAST-MODIFIED:20250129T183521Z
UID:40303-1740182400-1740268799@northcentralnews.net
SUMMARY:Driftwood Quintet
DESCRIPTION:
URL:https://northcentralnews.net/event/driftwood-quintet/
LOCATION:Herberger Theater Center\, 222 E. Monroe St.\, Phoenix\, AZ\, 85004\, United States
CATEGORIES:concert,free,live music
ATTACH;FMTTYPE=image/jpeg:https://northcentralnews.net/wp-content/uploads/2025/01/Herberger_Driftwood.jpg
END:VEVENT
BEGIN:VEVENT
DTSTART;TZID=America/Phoenix:20250207T180000
DTEND;TZID=America/Phoenix:20250207T210000
DTSTAMP:20260425T125914
CREATED:20250129T175818Z
LAST-MODIFIED:20250129T175818Z
UID:40280-1738951200-1738962000@northcentralnews.net
SUMMARY:Evening of Creativity and Community
DESCRIPTION:In partnership with St. Mary’s Food Bank\, donations of non-perishable food items will be collected during the event.
URL:https://northcentralnews.net/event/evening-of-creativity-and-community/
LOCATION:Herberger Theater Center\, 222 E. Monroe St.\, Phoenix\, AZ\, 85004\, United States
CATEGORIES:art,free,interactive experience,live performance
ATTACH;FMTTYPE=image/jpeg:https://northcentralnews.net/wp-content/uploads/2025/01/pexels-mccutcheon-1174952.jpg
END:VEVENT
BEGIN:VEVENT
DTSTART;VALUE=DATE:20250205
DTEND;VALUE=DATE:20250206
DTSTAMP:20260425T125914
CREATED:20250129T174604Z
LAST-MODIFIED:20250129T174604Z
UID:40279-1738713600-1738799999@northcentralnews.net
SUMMARY:Soul on Wax
DESCRIPTION:
URL:https://northcentralnews.net/event/soul-on-wax/
LOCATION:Valley Bar\, 130 N. Central Ave.\, Phoenix\, AZ\, 85004\, United States
CATEGORIES:DJ music,free
ATTACH;FMTTYPE=image/jpeg:https://northcentralnews.net/wp-content/uploads/2025/01/Valley-Bar_Soul.jpg
END:VEVENT
BEGIN:VEVENT
DTSTART;TZID=America/Phoenix:20250103T170000
DTEND;TZID=America/Phoenix:20250103T193000
DTSTAMP:20260425T125914
CREATED:20250101T010502Z
LAST-MODIFIED:20250101T010502Z
UID:40002-1735923600-1735932600@northcentralnews.net
SUMMARY:First Fridays in the Garden
DESCRIPTION:
URL:https://northcentralnews.net/event/first-fridays-in-the-garden/
LOCATION:Japanese Friendship Garden\, 1125 N. 3rd Ave.\, Phoenix\, AZ\, 85004\, United States
CATEGORIES:cultural event,family-friendly,free
ATTACH;FMTTYPE=image/jpeg:https://northcentralnews.net/wp-content/uploads/2024/12/Japanese-Friendship-Garden-2.jpg
END:VEVENT
BEGIN:VEVENT
DTSTART;VALUE=DATE:20250103
DTEND;VALUE=DATE:20250104
DTSTAMP:20260425T125914
CREATED:20250101T010035Z
LAST-MODIFIED:20250101T010035Z
UID:40001-1735862400-1735948799@northcentralnews.net
SUMMARY:Rhythm and Blues Party
DESCRIPTION:
URL:https://northcentralnews.net/event/rhythm-and-blues-party/
LOCATION:Herberger Theater Center\, 222 E. Monroe St.\, Phoenix\, AZ\, 85004\, United States
CATEGORIES:free,live music
END:VEVENT
BEGIN:VEVENT
DTSTART;VALUE=DATE:20250103
DTEND;VALUE=DATE:20250104
DTSTAMP:20260425T125914
CREATED:20250101T005640Z
LAST-MODIFIED:20250101T005708Z
UID:39999-1735862400-1735948799@northcentralnews.net
SUMMARY:First Friday: JiGGle
DESCRIPTION:
URL:https://northcentralnews.net/event/first-friday-jiggle/
LOCATION:The Nash\, 110 E. Roosevelt St.\, Phoenix\, AZ\, 85004\, United States
CATEGORIES:free,live music
ATTACH;FMTTYPE=image/jpeg:https://northcentralnews.net/wp-content/uploads/2024/12/Nash_JIGGLE_1200px.jpg
END:VEVENT
BEGIN:VEVENT
DTSTART;VALUE=DATE:20241228
DTEND;VALUE=DATE:20241229
DTSTAMP:20260425T125914
CREATED:20241126T215931Z
LAST-MODIFIED:20241126T215931Z
UID:39694-1735344000-1735430399@northcentralnews.net
SUMMARY:VRBO Fiesta Bowl Parade
DESCRIPTION:
URL:https://northcentralnews.net/event/vrbo-fiesta-bowl-parade/
LOCATION:AZ
CATEGORIES:annual event,family-friendly,free,parade
ATTACH;FMTTYPE=image/jpeg:https://northcentralnews.net/wp-content/uploads/2024/11/Fiesta-Bowl-Parade_OTT.jpg
END:VEVENT
BEGIN:VEVENT
DTSTART;VALUE=DATE:20241228
DTEND;VALUE=DATE:20241229
DTSTAMP:20260425T125914
CREATED:20241126T215756Z
LAST-MODIFIED:20241126T215756Z
UID:39692-1735344000-1735430399@northcentralnews.net
SUMMARY:‘Home Alone’ on the Pavilion
DESCRIPTION:
URL:https://northcentralnews.net/event/home-alone-on-the-pavilion/
LOCATION:Herberger Theater Center\, 222 E. Monroe St.\, Phoenix\, AZ\, 85004\, United States
CATEGORIES:family-friendly,film,free
ATTACH;FMTTYPE=image/jpeg:https://northcentralnews.net/wp-content/uploads/2024/11/Herberger-Home-Alone.jpg
END:VEVENT
BEGIN:VEVENT
DTSTART;VALUE=DATE:20241214
DTEND;VALUE=DATE:20241216
DTSTAMP:20260425T125914
CREATED:20241126T222208Z
LAST-MODIFIED:20241126T222208Z
UID:39702-1734134400-1734307199@northcentralnews.net
SUMMARY:Phoenix Festival of the Arts
DESCRIPTION:
URL:https://northcentralnews.net/event/phoenix-festival-of-the-arts/
LOCATION:Margaret T. Hance Park\, 67 W. Culver St.\, Phoenix\, AZ\, 85003\, United States
CATEGORIES:annual event,art and craft,family-friendly,food,free,live music,marketplace,outdoor festival
ATTACH;FMTTYPE=image/jpeg:https://northcentralnews.net/wp-content/uploads/2024/11/Phoenix-Festival-of-the-Arts-wide.jpg
END:VEVENT
BEGIN:VEVENT
DTSTART;VALUE=DATE:20241208
DTEND;VALUE=DATE:20241209
DTSTAMP:20260425T125914
CREATED:20241126T212517Z
LAST-MODIFIED:20241126T212517Z
UID:39670-1733616000-1733702399@northcentralnews.net
SUMMARY:Rosie’s House: Season to Shine
DESCRIPTION:Tickets are free; however an RSVP is required. Follow the event link below.
URL:https://northcentralnews.net/event/rosies-house-season-to-shine/
LOCATION:Herberger Theater Center\, 222 E. Monroe St.\, Phoenix\, AZ\, 85004\, United States
CATEGORIES:concert,family-friendly,free,live music
END:VEVENT
BEGIN:VEVENT
DTSTART;VALUE=DATE:20241207
DTEND;VALUE=DATE:20241208
DTSTAMP:20260425T125914
CREATED:20241126T211332Z
LAST-MODIFIED:20241126T211332Z
UID:39663-1733529600-1733615999@northcentralnews.net
SUMMARY:Faire at the Square
DESCRIPTION:
URL:https://northcentralnews.net/event/faire-at-the-square/
LOCATION:The Square at Heritage and Science Park\, 113 N. 6th St.\, Phoenix\, AZ\, 85004\, United States
CATEGORIES:cultural event,family-friendly,free
ATTACH;FMTTYPE=image/jpeg:https://northcentralnews.net/wp-content/uploads/2024/11/Faire-at-the-Square-2024-Press-Release.jpg
END:VEVENT
BEGIN:VEVENT
DTSTART;VALUE=DATE:20241207
DTEND;VALUE=DATE:20241208
DTSTAMP:20260425T125914
CREATED:20241126T203921Z
LAST-MODIFIED:20241126T203921Z
UID:39643-1733529600-1733615999@northcentralnews.net
SUMMARY:APS Electric Light Parade
DESCRIPTION:
URL:https://northcentralnews.net/event/aps-electric-light-parade/
LOCATION:AZ
CATEGORIES:annual event,family-friendly,free,parade
ATTACH;FMTTYPE=image/jpeg:https://northcentralnews.net/wp-content/uploads/2024/11/ElectricLightParadeELP_OTT.jpg
END:VEVENT
BEGIN:VEVENT
DTSTART;VALUE=DATE:20241206
DTEND;VALUE=DATE:20241207
DTSTAMP:20260425T125914
CREATED:20241126T205710Z
LAST-MODIFIED:20241126T205710Z
UID:39646-1733443200-1733529599@northcentralnews.net
SUMMARY:Winter Wonderland
DESCRIPTION:
URL:https://northcentralnews.net/event/winter-wonderland/
LOCATION:Herberger Theater Center\, 222 E. Monroe St.\, Phoenix\, AZ\, 85004\, United States
CATEGORIES:cultural event,family-friendly,free
ATTACH;FMTTYPE=image/jpeg:https://northcentralnews.net/wp-content/uploads/2024/11/Herberger-Winter-copy.jpg
END:VEVENT
BEGIN:VEVENT
DTSTART;VALUE=DATE:20241206
DTEND;VALUE=DATE:20241207
DTSTAMP:20260425T125914
CREATED:20241126T204233Z
LAST-MODIFIED:20241126T204233Z
UID:39645-1733443200-1733529599@northcentralnews.net
SUMMARY:Artlink First Friday Art Walk
DESCRIPTION:
URL:https://northcentralnews.net/event/artlink-first-friday-art-walk/
LOCATION:AZ
CATEGORIES:art,free
ATTACH;FMTTYPE=image/jpeg:https://northcentralnews.net/wp-content/uploads/2024/11/Artlink-First-Friday.jpg
END:VEVENT
BEGIN:VEVENT
DTSTART;VALUE=DATE:20241130
DTEND;VALUE=DATE:20241201
DTSTAMP:20260425T125914
CREATED:20241030T232209Z
LAST-MODIFIED:20241030T232209Z
UID:39253-1732924800-1733011199@northcentralnews.net
SUMMARY:Phoenix Youth Circus Arts
DESCRIPTION:
URL:https://northcentralnews.net/event/phoenix-youth-circus-arts/
LOCATION:Herberger Theater Center\, 222 E. Monroe St.\, Phoenix\, AZ\, 85004\, United States
CATEGORIES:art,family-friendly,free
ATTACH;FMTTYPE=image/jpeg:https://northcentralnews.net/wp-content/uploads/2024/10/Herberger_Phoenix-Youth-Circus.jpg
END:VEVENT
BEGIN:VEVENT
DTSTART;VALUE=DATE:20241116
DTEND;VALUE=DATE:20241117
DTSTAMP:20260425T125914
CREATED:20241030T230601Z
LAST-MODIFIED:20241030T230601Z
UID:39241-1731715200-1731801599@northcentralnews.net
SUMMARY:15th Annual Festival of the Arts
DESCRIPTION:
URL:https://northcentralnews.net/event/15th-annual-festival-of-the-arts/
LOCATION:Herberger Theater Center\, 222 E. Monroe St.\, Phoenix\, AZ\, 85004\, United States
CATEGORIES:art,family-friendly,free,special event
ATTACH;FMTTYPE=image/jpeg:https://northcentralnews.net/wp-content/uploads/2024/10/Herberger-Festival.jpg
END:VEVENT
BEGIN:VEVENT
DTSTART;VALUE=DATE:20241116
DTEND;VALUE=DATE:20241117
DTSTAMP:20260425T125914
CREATED:20241030T230037Z
LAST-MODIFIED:20241030T230037Z
UID:39240-1731715200-1731801599@northcentralnews.net
SUMMARY:Coffee House Saturdays
DESCRIPTION:
URL:https://northcentralnews.net/event/coffee-house-saturdays-4/
LOCATION:North Mountain Visitors Center\, 12950 N. 7th St.\, Phoenix\, AZ\, 85022\, United States
CATEGORIES:free,live music
ATTACH;FMTTYPE=image/jpeg:https://northcentralnews.net/wp-content/uploads/2024/04/North-Mountain-Visitor-Center.jpg
END:VEVENT
BEGIN:VEVENT
DTSTART;VALUE=DATE:20241102
DTEND;VALUE=DATE:20241103
DTSTAMP:20260425T125914
CREATED:20241030T221500Z
LAST-MODIFIED:20241030T221500Z
UID:39216-1730505600-1730591999@northcentralnews.net
SUMMARY:Ask a Ranger/Rattlesnake Garage
DESCRIPTION:
URL:https://northcentralnews.net/event/ask-a-ranger-rattlesnake-garage/
LOCATION:North Mountain Visitors Center\, 12950 N. 7th St.\, Phoenix\, AZ\, 85022\, United States
CATEGORIES:educational,family-friendly,free,nature
ATTACH;FMTTYPE=image/jpeg:https://northcentralnews.net/wp-content/uploads/2024/10/pexels-pixabay-36714.jpg
END:VEVENT
BEGIN:VEVENT
DTSTART;VALUE=DATE:20241101
DTEND;VALUE=DATE:20241102
DTSTAMP:20260425T125914
CREATED:20241030T220734Z
LAST-MODIFIED:20241030T224530Z
UID:39213-1730419200-1730505599@northcentralnews.net
SUMMARY:Grand Re-Opening Anniversary Weekend with The Stakes
DESCRIPTION:
URL:https://northcentralnews.net/event/grand-re-opening-anniversary-weekend-with-the-stakes/
LOCATION:The Nash\, 110 E. Roosevelt St.\, Phoenix\, AZ\, 85004\, United States
CATEGORIES:free,live music,special event
ATTACH;FMTTYPE=image/jpeg:https://northcentralnews.net/wp-content/uploads/2024/10/Nash_The-Stakes2.jpg
END:VEVENT
BEGIN:VEVENT
DTSTART;VALUE=DATE:20241004
DTEND;VALUE=DATE:20241005
DTSTAMP:20260425T125914
CREATED:20240923T223319Z
LAST-MODIFIED:20240923T223647Z
UID:38799-1728000000-1728086399@northcentralnews.net
SUMMARY:Oktoberfest
DESCRIPTION:
URL:https://northcentralnews.net/event/oktoberfest/
LOCATION:Herberger Theater Center\, 222 E. Monroe St.\, Phoenix\, AZ\, 85004\, United States
CATEGORIES:family-friendly,free,outdoor festival
END:VEVENT
END:VCALENDAR