BEGIN:VCALENDAR
VERSION:2.0
PRODID:-//North Central News - ECPv6.15.18//NONSGML v1.0//EN
CALSCALE:GREGORIAN
METHOD:PUBLISH
X-ORIGINAL-URL:https://northcentralnews.net
X-WR-CALDESC:Events for North Central News
REFRESH-INTERVAL;VALUE=DURATION:PT1H
X-Robots-Tag:noindex
X-PUBLISHED-TTL:PT1H
BEGIN:VTIMEZONE
TZID:America/Phoenix
BEGIN:STANDARD
TZOFFSETFROM:-0700
TZOFFSETTO:-0700
TZNAME:MST
DTSTART:20230101T000000
END:STANDARD
END:VTIMEZONE
BEGIN:VEVENT
DTSTART;VALUE=DATE:20241102
DTEND;VALUE=DATE:20241103
DTSTAMP:20260421T181436
CREATED:20241008T201231Z
LAST-MODIFIED:20241008T202005Z
UID:39002-1730505600-1730591999@northcentralnews.net
SUMMARY:2024 Phoenix Steps Against Melanoma Walk
DESCRIPTION:Registration begins at 8 a.m.; Opening ceremony will be held at 9 a.m.; the 5K Fun Run/Walk begins at 9:15 a.m.
URL:https://northcentralnews.net/event/2024-phoenix-steps-against-melanoma-walk/
LOCATION:Papago Park\, 625 N. Galvin Parkway\, Phoenix\, AZ\, 85008\, United States
CATEGORIES:community,family-friendly,fundraiser
ATTACH;FMTTYPE=image/jpeg:https://northcentralnews.net/wp-content/uploads/2024/10/AIM-at-Meloanoma-General-cover.jpg
END:VEVENT
END:VCALENDAR