BEGIN:VCALENDAR
VERSION:2.0
PRODID:-//North Central News - ECPv6.15.18//NONSGML v1.0//EN
CALSCALE:GREGORIAN
METHOD:PUBLISH
X-WR-CALNAME:North Central News
X-ORIGINAL-URL:https://northcentralnews.net
X-WR-CALDESC:Events for North Central News
REFRESH-INTERVAL;VALUE=DURATION:PT1H
X-Robots-Tag:noindex
X-PUBLISHED-TTL:PT1H
BEGIN:VTIMEZONE
TZID:America/Phoenix
BEGIN:STANDARD
TZOFFSETFROM:-0700
TZOFFSETTO:-0700
TZNAME:MST
DTSTART:20220101T000000
END:STANDARD
END:VTIMEZONE
BEGIN:VEVENT
DTSTART;VALUE=DATE:20230603
DTEND;VALUE=DATE:20230903
DTSTAMP:20260423T133439
CREATED:20230601T183459Z
LAST-MODIFIED:20230601T183459Z
UID:33711-1685750400-1693699199@northcentralnews.net
SUMMARY:Flashlight Nights
DESCRIPTION:Held Saturdays from June 3 to Sept. 2
URL:https://northcentralnews.net/event/flashlight-nights/
LOCATION:Desert Botanical Garden\, 1201 N. Galvin Pkwy.\, Phoenix\, AZ\, 85008\, United States
CATEGORIES:family-friendly,outdoor event
ATTACH;FMTTYPE=image/jpeg:https://northcentralnews.net/wp-content/uploads/2023/06/DBG_Flashlight-Nights.jpg
END:VEVENT
BEGIN:VEVENT
DTSTART;VALUE=DATE:20230617
DTEND;VALUE=DATE:20230618
DTSTAMP:20260423T133439
CREATED:20230601T185444Z
LAST-MODIFIED:20230601T185444Z
UID:33728-1686960000-1687046399@northcentralnews.net
SUMMARY:Father’s Day Flashlight Night
DESCRIPTION:
URL:https://northcentralnews.net/event/fathers-day-flashlight-night/
LOCATION:Desert Botanical Garden\, 1201 N. Galvin Pkwy.\, Phoenix\, AZ\, 85008\, United States
CATEGORIES:family-friendly,outdoor event
ATTACH;FMTTYPE=image/jpeg:https://northcentralnews.net/wp-content/uploads/2023/06/DBG_Fathers2.jpg
END:VEVENT
END:VCALENDAR