BEGIN:VCALENDAR
VERSION:2.0
PRODID:-//North Central News - ECPv6.15.18//NONSGML v1.0//EN
CALSCALE:GREGORIAN
METHOD:PUBLISH
X-WR-CALNAME:North Central News
X-ORIGINAL-URL:https://northcentralnews.net
X-WR-CALDESC:Events for North Central News
REFRESH-INTERVAL;VALUE=DURATION:PT1H
X-Robots-Tag:noindex
X-PUBLISHED-TTL:PT1H
BEGIN:VTIMEZONE
TZID:America/Phoenix
BEGIN:STANDARD
TZOFFSETFROM:-0700
TZOFFSETTO:-0700
TZNAME:MST
DTSTART:20220101T000000
END:STANDARD
END:VTIMEZONE
BEGIN:VEVENT
DTSTART;VALUE=DATE:20230311
DTEND;VALUE=DATE:20230312
DTSTAMP:20260421T095853
CREATED:20230301T195748Z
LAST-MODIFIED:20230301T195748Z
UID:32765-1678492800-1678579199@northcentralnews.net
SUMMARY:St. Patrick’s Day Parade & Irish Family Faire
DESCRIPTION:The Parade begins at 10 a.m. on 3rd Street and Oak Street. The Faire will be open from 10 a.m. to 5 p.m. at Margaret T. Hance Park on the east side. Visit the website for additional information.
URL:https://northcentralnews.net/event/st-patricks-day-parade-irish-family-faire/
LOCATION:AZ
CATEGORIES:annual event,family-friendly,outdoor event
ATTACH;FMTTYPE=image/jpeg:https://northcentralnews.net/wp-content/uploads/2023/03/ICC_PARADE_2022-31.jpg
END:VEVENT
BEGIN:VEVENT
DTSTART;TZID=America/Phoenix:20230304T110000
DTEND;TZID=America/Phoenix:20230304T170000
DTSTAMP:20260421T095853
CREATED:20230208T214128Z
LAST-MODIFIED:20230208T214128Z
UID:32616-1677927600-1677949200@northcentralnews.net
SUMMARY:Melrose 7th Avenue Street Fair
DESCRIPTION:The Melrose Street Fair runs along 7th Avenue from Indian School Road to Campbell Avenue\, is free to the public and features over 200 local and independent artisans\, food trucks\, live music\, a farmers’ market\, kid’s activities and craft beer garden.
URL:https://northcentralnews.net/event/melrose-7th-avenue-street-fair/
LOCATION:AZ
CATEGORIES:annual event,family-friendly,outdoor event
ATTACH;FMTTYPE=image/jpeg:https://northcentralnews.net/wp-content/uploads/2023/02/Melrose_Resized_Resized_20220305_124420.jpg
END:VEVENT
BEGIN:VEVENT
DTSTART;VALUE=DATE:20230218
DTEND;VALUE=DATE:20230220
DTSTAMP:20260421T095853
CREATED:20230201T221606Z
LAST-MODIFIED:20230201T221606Z
UID:32423-1676678400-1676851199@northcentralnews.net
SUMMARY:World Championship Hoop Dance Contest
DESCRIPTION:
URL:https://northcentralnews.net/event/world-championship-hoop-dance-contest/
LOCATION:Heard Museum\, 2301 N. Central Ave.\, Phoenix\, AZ\, 85004\, United States
CATEGORIES:dance,family-friendly,outdoor event
ATTACH;FMTTYPE=image/jpeg:https://northcentralnews.net/wp-content/uploads/2023/01/Heard_Hoop-dance.jpg
END:VEVENT
BEGIN:VEVENT
DTSTART;VALUE=DATE:20230209
DTEND;VALUE=DATE:20230213
DTSTAMP:20260421T095853
CREATED:20230201T172252Z
LAST-MODIFIED:20230201T172358Z
UID:32401-1675900800-1676246399@northcentralnews.net
SUMMARY:Superbowl Experience at Hance Park
DESCRIPTION:
URL:https://northcentralnews.net/event/superbowl-experience-at-hance-park/
LOCATION:Margaret T. Hance Park\, 67 W. Culver St.\, Phoenix\, AZ\, 85003\, United States
CATEGORIES:family-friendly,free,outdoor event,special event
ATTACH;FMTTYPE=image/jpeg:https://northcentralnews.net/wp-content/uploads/2023/02/Superbowl-experience_Cartoon-Map-FINAL-scaled.jpg
END:VEVENT
BEGIN:VEVENT
DTSTART;TZID=America/Phoenix:20230203T173000
DTEND;TZID=America/Phoenix:20230203T200000
DTSTAMP:20260421T095853
CREATED:20230201T171245Z
LAST-MODIFIED:20230201T171245Z
UID:32398-1675445400-1675454400@northcentralnews.net
SUMMARY:An evening of stargazing
DESCRIPTION:This is a free community event; however\, donations to the Save Our Mountains Foundation will be accepted during the event\, with the proceeds go toward the operation of the North Mountain Visitor Center. In case of inclement weather or cloudy skies\, the event will be rescheduled.
URL:https://northcentralnews.net/event/an-evening-of-stargazing/
LOCATION:North Mountain Visitors Center\, 12950 N. 7th St.\, Phoenix\, AZ\, 85022\, United States
CATEGORIES:family-friendly,free,outdoor event
ATTACH;FMTTYPE=image/jpeg:https://northcentralnews.net/wp-content/uploads/2023/01/pexels-thirdman-8495473.jpg
END:VEVENT
END:VCALENDAR