BEGIN:VCALENDAR
VERSION:2.0
PRODID:-//North Central News - ECPv6.15.18//NONSGML v1.0//EN
CALSCALE:GREGORIAN
METHOD:PUBLISH
X-ORIGINAL-URL:https://northcentralnews.net
X-WR-CALDESC:Events for North Central News
REFRESH-INTERVAL;VALUE=DURATION:PT1H
X-Robots-Tag:noindex
X-PUBLISHED-TTL:PT1H
BEGIN:VTIMEZONE
TZID:America/Phoenix
BEGIN:STANDARD
TZOFFSETFROM:-0700
TZOFFSETTO:-0700
TZNAME:MST
DTSTART:20220101T000000
END:STANDARD
END:VTIMEZONE
BEGIN:VEVENT
DTSTART;VALUE=DATE:20260328
DTEND;VALUE=DATE:20260330
DTSTAMP:20260425T190717
CREATED:20260224T212642Z
LAST-MODIFIED:20260224T212642Z
UID:44508-1774656000-1774828799@northcentralnews.net
SUMMARY:Rainbows Festival
DESCRIPTION:
URL:https://northcentralnews.net/event/rainbows-festival-2/
LOCATION:The Square at Heritage and Science Park\, 113 N. 6th St.\, Phoenix\, AZ\, 85004\, United States
CATEGORIES:annual event,free,outdoor festival
ATTACH;FMTTYPE=image/jpeg:https://northcentralnews.net/wp-content/uploads/2026/02/Rainbows-2026.jpg
END:VEVENT
BEGIN:VEVENT
DTSTART;VALUE=DATE:20260314
DTEND;VALUE=DATE:20260315
DTSTAMP:20260425T190717
CREATED:20260224T204616Z
LAST-MODIFIED:20260224T204616Z
UID:44471-1773446400-1773532799@northcentralnews.net
SUMMARY:43rd Annual St. Patrick’s Day Parade & Faire
DESCRIPTION:
URL:https://northcentralnews.net/event/43rd-annual-st-patricks-day-parade-faire/
LOCATION:AZ
CATEGORIES:annual event,cultural event,family-friendly,outdoor festival,parade
ATTACH;FMTTYPE=image/jpeg:https://northcentralnews.net/wp-content/uploads/2026/02/StPatricksDay.jpg
END:VEVENT
BEGIN:VEVENT
DTSTART;VALUE=DATE:20250315
DTEND;VALUE=DATE:20250316
DTSTAMP:20260425T190717
CREATED:20250226T203321Z
LAST-MODIFIED:20250226T203321Z
UID:40606-1741996800-1742083199@northcentralnews.net
SUMMARY:42nd Annual St. Patrick’s Day Parade & Irish Family Faire
DESCRIPTION:The Parade takes place in Downtown Phoenix. Kicking off at 10 a.m.\, the route travels down 3rd Street from Oak Street to Margaret T. Hance Park\, where the Faire will be held.
URL:https://northcentralnews.net/event/42nd-annual-st-patricks-day-parade-irish-family-faire/
LOCATION:Margaret T. Hance Park\, 67 W. Culver St.\, Phoenix\, AZ\, 85003\, United States
CATEGORIES:annual event,family-friendly,outdoor festival,parade
ATTACH;FMTTYPE=image/jpeg:https://northcentralnews.net/wp-content/uploads/2025/02/ott-St-Patricks-Day-Parade.jpg
END:VEVENT
BEGIN:VEVENT
DTSTART;TZID=America/Phoenix:20250301T110000
DTEND;TZID=America/Phoenix:20250301T170000
DTSTAMP:20260425T190717
CREATED:20250226T182647Z
LAST-MODIFIED:20250226T182647Z
UID:40586-1740826800-1740848400@northcentralnews.net
SUMMARY:Melrose 7th Avenue Street Fair
DESCRIPTION:The event takes place in the Melrose District\, 7th Avenue from Indian School Road north to Campbell Avenue.
URL:https://northcentralnews.net/event/melrose-7th-avenue-street-fair-2/
LOCATION:AZ
CATEGORIES:annual event,family-friendly,food,free,live music,outdoor festival
ATTACH;FMTTYPE=image/jpeg:https://northcentralnews.net/wp-content/uploads/2025/02/ott-Melrose-Street-Fair-2.jpg
END:VEVENT
BEGIN:VEVENT
DTSTART;VALUE=DATE:20241214
DTEND;VALUE=DATE:20241216
DTSTAMP:20260425T190717
CREATED:20241126T222208Z
LAST-MODIFIED:20241126T222208Z
UID:39702-1734134400-1734307199@northcentralnews.net
SUMMARY:Phoenix Festival of the Arts
DESCRIPTION:
URL:https://northcentralnews.net/event/phoenix-festival-of-the-arts/
LOCATION:Margaret T. Hance Park\, 67 W. Culver St.\, Phoenix\, AZ\, 85003\, United States
CATEGORIES:annual event,art and craft,family-friendly,food,free,live music,marketplace,outdoor festival
ATTACH;FMTTYPE=image/jpeg:https://northcentralnews.net/wp-content/uploads/2024/11/Phoenix-Festival-of-the-Arts-wide.jpg
END:VEVENT
BEGIN:VEVENT
DTSTART;VALUE=DATE:20241102
DTEND;VALUE=DATE:20241104
DTSTAMP:20260425T190717
CREATED:20241030T222000Z
LAST-MODIFIED:20241030T222000Z
UID:39218-1730505600-1730678399@northcentralnews.net
SUMMARY:2024 Shemer Arizona Arts Festival
DESCRIPTION:
URL:https://northcentralnews.net/event/2024-shemer-arizona-arts-festival/
LOCATION:Shemer Art Center\, 5005 E. Camelback Road\, Phoenix\, AZ\, 85018\, United States
CATEGORIES:annual event,art,outdoor festival
ATTACH;FMTTYPE=image/jpeg:https://northcentralnews.net/wp-content/uploads/2024/10/Shemer-Arts-Festival-2023-1.jpg
END:VEVENT
BEGIN:VEVENT
DTSTART;VALUE=DATE:20241004
DTEND;VALUE=DATE:20241005
DTSTAMP:20260425T190717
CREATED:20240923T223319Z
LAST-MODIFIED:20240923T223647Z
UID:38799-1728000000-1728086399@northcentralnews.net
SUMMARY:Oktoberfest
DESCRIPTION:
URL:https://northcentralnews.net/event/oktoberfest/
LOCATION:Herberger Theater Center\, 222 E. Monroe St.\, Phoenix\, AZ\, 85004\, United States
CATEGORIES:family-friendly,free,outdoor festival
END:VEVENT
BEGIN:VEVENT
DTSTART;VALUE=DATE:20240704
DTEND;VALUE=DATE:20240705
DTSTAMP:20260425T190717
CREATED:20240626T214354Z
LAST-MODIFIED:20240626T214354Z
UID:37918-1720051200-1720137599@northcentralnews.net
SUMMARY:Phoenix Fabulous Fourth
DESCRIPTION:
URL:https://northcentralnews.net/event/phoenix-fabulous-fourth/
LOCATION:Steele Indian School Park\, 300 E. Indian School Rd.\, Phoenix\, AZ\, 85012\, United States
CATEGORIES:family-friendly,outdoor festival,special event
ATTACH;FMTTYPE=image/jpeg:https://northcentralnews.net/wp-content/uploads/2024/06/fireworks.jpg
END:VEVENT
BEGIN:VEVENT
DTSTART;VALUE=DATE:20240224
DTEND;VALUE=DATE:20240226
DTSTAMP:20260425T190717
CREATED:20240131T194450Z
LAST-MODIFIED:20240131T194450Z
UID:36350-1708732800-1708905599@northcentralnews.net
SUMMARY:Arizona Matsuri: Festival of Japan
DESCRIPTION:Check with organizer for event times
URL:https://northcentralnews.net/event/arizona-matsuri-festival-of-japan/
LOCATION:Steele Indian School Park\, 300 E. Indian School Rd.\, Phoenix\, AZ\, 85012\, United States
CATEGORIES:annual event,cultural event,family-friendly,free,outdoor festival
ATTACH;FMTTYPE=image/jpeg:https://northcentralnews.net/wp-content/uploads/2024/01/AZ-Matsuri.jpg
END:VEVENT
BEGIN:VEVENT
DTSTART;TZID=America/Phoenix:20231104T090000
DTEND;TZID=America/Phoenix:20231104T170000
DTSTAMP:20260425T190717
CREATED:20231005T170857Z
LAST-MODIFIED:20231005T170857Z
UID:35100-1699088400-1699117200@northcentralnews.net
SUMMARY:20th Annual Phoenix Pagan Pride Day
DESCRIPTION:
URL:https://northcentralnews.net/event/20th-annual-phoenix-pagan-pride-day/
LOCATION:Steele Indian School Park\, 300 E. Indian School Rd.\, Phoenix\, AZ\, 85012\, United States
CATEGORIES:annual event,free,outdoor festival
ATTACH;FMTTYPE=image/jpeg:https://northcentralnews.net/wp-content/uploads/2023/09/Pagan-Pride_FB_IMG_1686258156335.jpg
END:VEVENT
BEGIN:VEVENT
DTSTART;VALUE=DATE:20231009
DTEND;VALUE=DATE:20231010
DTSTAMP:20260425T190717
CREATED:20230926T063324Z
LAST-MODIFIED:20230926T063324Z
UID:35037-1696809600-1696895999@northcentralnews.net
SUMMARY:Indigenous Peoples’ Day PHX Fest
DESCRIPTION:
URL:https://northcentralnews.net/event/indigenous-peoples-day-phx-fest/
LOCATION:Margaret T. Hance Park\, 67 W. Culver St.\, Phoenix\, AZ\, 85003\, United States
CATEGORIES:family-friendly,outdoor festival,special event
ATTACH;FMTTYPE=image/jpeg:https://northcentralnews.net/wp-content/uploads/2023/09/Indigenous-Peoples-Day-PHX-Fest.jpeg
END:VEVENT
BEGIN:VEVENT
DTSTART;VALUE=DATE:20230401
DTEND;VALUE=DATE:20230403
DTSTAMP:20260425T190717
CREATED:20230401T233043Z
LAST-MODIFIED:20230401T233043Z
UID:33006-1680307200-1680479999@northcentralnews.net
SUMMARY:Rainbows Festival
DESCRIPTION:
URL:https://northcentralnews.net/event/rainbows-festival/
LOCATION:The Square at Heritage and Science Park\, 113 N. 6th St.\, Phoenix\, AZ\, 85004\, United States
CATEGORIES:outdoor festival,special event
ATTACH;FMTTYPE=image/jpeg:https://northcentralnews.net/wp-content/uploads/2023/04/Rainbows-Festival.jpg
END:VEVENT
BEGIN:VEVENT
DTSTART;VALUE=DATE:20230303
DTEND;VALUE=DATE:20230305
DTSTAMP:20260425T190717
CREATED:20230301T194119Z
LAST-MODIFIED:20230301T194119Z
UID:32749-1677801600-1677974399@northcentralnews.net
SUMMARY:M3F Festival
DESCRIPTION:Pictured: Maggie Rogers headlines M3F Festival March 3.
URL:https://northcentralnews.net/event/m3f-festival/
LOCATION:Margaret T. Hance Park\, 67 W. Culver St.\, Phoenix\, AZ\, 85003\, United States
CATEGORIES:live music,outdoor festival
ATTACH;FMTTYPE=image/jpeg:https://northcentralnews.net/wp-content/uploads/2023/03/M3F_maggie-rogers.jpg
END:VEVENT
BEGIN:VEVENT
DTSTART;VALUE=DATE:20230204
DTEND;VALUE=DATE:20230403
DTSTAMP:20260425T190717
CREATED:20230201T231438Z
LAST-MODIFIED:20230301T194340Z
UID:32441-1675468800-1680479999@northcentralnews.net
SUMMARY:35th Annual Arizona Renaissance Festival & Artisan Market
DESCRIPTION:Open Saturdays and Sundays through April 2\, 2023.
URL:https://northcentralnews.net/event/35th-annual-arizona-renaissance-festival-artisan-market/
LOCATION:Arizona Renaissance Festival\, 12601 E. US Highway 60\, Gold Canyon\, AZ\, 85118\, United States
CATEGORIES:family-friendly,marketplace,outdoor festival,special event
ATTACH;FMTTYPE=image/jpeg:https://northcentralnews.net/wp-content/uploads/2023/02/Jousters-with-Flags-Compressed-scaled.jpeg
END:VEVENT
END:VCALENDAR