BEGIN:VCALENDAR
VERSION:2.0
PRODID:-//North Central News - ECPv6.15.18//NONSGML v1.0//EN
CALSCALE:GREGORIAN
METHOD:PUBLISH
X-WR-CALNAME:North Central News
X-ORIGINAL-URL:https://northcentralnews.net
X-WR-CALDESC:Events for North Central News
REFRESH-INTERVAL;VALUE=DURATION:PT1H
X-Robots-Tag:noindex
X-PUBLISHED-TTL:PT1H
BEGIN:VTIMEZONE
TZID:America/Phoenix
BEGIN:STANDARD
TZOFFSETFROM:-0700
TZOFFSETTO:-0700
TZNAME:MST
DTSTART:20220101T000000
END:STANDARD
END:VTIMEZONE
BEGIN:VEVENT
DTSTART;VALUE=DATE:20250920
DTEND;VALUE=DATE:20250921
DTSTAMP:20260423T045457
CREATED:20250901T212307Z
LAST-MODIFIED:20250901T212307Z
UID:42461-1758326400-1758412799@northcentralnews.net
SUMMARY:Trivia After Dark
DESCRIPTION:
URL:https://northcentralnews.net/event/trivia-after-dark/
LOCATION:Madison Center for the Arts\, 5601 N. 16th St.\, Phoenix\, AZ\, 85016\, United States
CATEGORIES:fundraiser,trivia night
END:VEVENT
BEGIN:VEVENT
DTSTART;VALUE=DATE:20250611
DTEND;VALUE=DATE:20250612
DTSTAMP:20260423T045457
CREATED:20250529T213511Z
LAST-MODIFIED:20250529T213511Z
UID:41488-1749600000-1749686399@northcentralnews.net
SUMMARY:Wes Anderson Trivia Night
DESCRIPTION:
URL:https://northcentralnews.net/event/wes-anderson-trivia-night/
LOCATION:AZ
CATEGORIES:interactive experience,trivia night
ATTACH;FMTTYPE=image/jpeg:https://northcentralnews.net/wp-content/uploads/2025/05/Valley_Wes-Anderson.jpg
END:VEVENT
BEGIN:VEVENT
DTSTART;VALUE=DATE:20231207
DTEND;VALUE=DATE:20231208
DTSTAMP:20260423T045457
CREATED:20231121T203035Z
LAST-MODIFIED:20231121T203035Z
UID:35652-1701907200-1701993599@northcentralnews.net
SUMMARY:Hanukkah Celebration & Jewish Trivia
DESCRIPTION:
URL:https://northcentralnews.net/event/hanukkah-celebration-jewish-trivia/
LOCATION:Crescent Ballroom\, 308 N. 2nd Ave.\, Phoenix\, AZ\, 85003\, United States
CATEGORIES:trivia night
END:VEVENT
END:VCALENDAR